BEGIN:VCALENDAR
VERSION:2.0
PRODID:-//Deutscher Harmonika Verband e.V. Bezirk Mittelbaden - ECPv6.15.17//NONSGML v1.0//EN
CALSCALE:GREGORIAN
METHOD:PUBLISH
X-WR-CALNAME:Deutscher Harmonika Verband e.V. Bezirk Mittelbaden
X-ORIGINAL-URL:https://dhv-mittelbaden.de
X-WR-CALDESC:Veranstaltungen für Deutscher Harmonika Verband e.V. Bezirk Mittelbaden
REFRESH-INTERVAL;VALUE=DURATION:PT1H
X-Robots-Tag:noindex
X-PUBLISHED-TTL:PT1H
BEGIN:VTIMEZONE
TZID:Europe/Berlin
BEGIN:DAYLIGHT
TZOFFSETFROM:+0100
TZOFFSETTO:+0200
TZNAME:CEST
DTSTART:20210328T010000
END:DAYLIGHT
BEGIN:STANDARD
TZOFFSETFROM:+0200
TZOFFSETTO:+0100
TZNAME:CET
DTSTART:20211031T010000
END:STANDARD
BEGIN:DAYLIGHT
TZOFFSETFROM:+0100
TZOFFSETTO:+0200
TZNAME:CEST
DTSTART:20220327T010000
END:DAYLIGHT
BEGIN:STANDARD
TZOFFSETFROM:+0200
TZOFFSETTO:+0100
TZNAME:CET
DTSTART:20221030T010000
END:STANDARD
BEGIN:DAYLIGHT
TZOFFSETFROM:+0100
TZOFFSETTO:+0200
TZNAME:CEST
DTSTART:20230326T010000
END:DAYLIGHT
BEGIN:STANDARD
TZOFFSETFROM:+0200
TZOFFSETTO:+0100
TZNAME:CET
DTSTART:20231029T010000
END:STANDARD
END:VTIMEZONE
BEGIN:VEVENT
DTSTART;VALUE=DATE:20221120
DTEND;VALUE=DATE:20221121
DTSTAMP:20260420T021450
CREATED:20240614T174510Z
LAST-MODIFIED:20240614T174510Z
UID:699-1668902400-1668988799@dhv-mittelbaden.de
SUMMARY:HC Bruchhausen - Konzert im Schloss
DESCRIPTION:
URL:https://dhv-mittelbaden.de/event/hc-bruchhausen-konzert-im-schloss-2/
LOCATION:Ettlingen / Schloss Ettlingen / AssamSaal\, Deutschland
CATEGORIES:Herbst,Konzerte,Veranstaltungen
END:VEVENT
END:VCALENDAR