BEGIN:VCALENDAR
VERSION:2.0
PRODID:-//Deutscher Harmonika Verband e.V. Bezirk Mittelbaden - ECPv6.15.17//NONSGML v1.0//EN
CALSCALE:GREGORIAN
METHOD:PUBLISH
X-WR-CALNAME:Deutscher Harmonika Verband e.V. Bezirk Mittelbaden
X-ORIGINAL-URL:https://dhv-mittelbaden.de
X-WR-CALDESC:Veranstaltungen für Deutscher Harmonika Verband e.V. Bezirk Mittelbaden
REFRESH-INTERVAL;VALUE=DURATION:PT1H
X-Robots-Tag:noindex
X-PUBLISHED-TTL:PT1H
BEGIN:VTIMEZONE
TZID:Europe/Berlin
BEGIN:DAYLIGHT
TZOFFSETFROM:+0100
TZOFFSETTO:+0200
TZNAME:CEST
DTSTART:20200329T010000
END:DAYLIGHT
BEGIN:STANDARD
TZOFFSETFROM:+0200
TZOFFSETTO:+0100
TZNAME:CET
DTSTART:20201025T010000
END:STANDARD
BEGIN:DAYLIGHT
TZOFFSETFROM:+0100
TZOFFSETTO:+0200
TZNAME:CEST
DTSTART:20210328T010000
END:DAYLIGHT
BEGIN:STANDARD
TZOFFSETFROM:+0200
TZOFFSETTO:+0100
TZNAME:CET
DTSTART:20211031T010000
END:STANDARD
BEGIN:DAYLIGHT
TZOFFSETFROM:+0100
TZOFFSETTO:+0200
TZNAME:CEST
DTSTART:20220327T010000
END:DAYLIGHT
BEGIN:STANDARD
TZOFFSETFROM:+0200
TZOFFSETTO:+0100
TZNAME:CET
DTSTART:20221030T010000
END:STANDARD
END:VTIMEZONE
BEGIN:VEVENT
DTSTART;TZID=Europe/Berlin:20211113T190000
DTEND;TZID=Europe/Berlin:20211113T210000
DTSTAMP:20260424T125922
CREATED:20240614T172027Z
LAST-MODIFIED:20240614T172320Z
UID:657-1636830000-1636837200@dhv-mittelbaden.de
SUMMARY:HS Mörsch – Kirchenmusik und Kerzenschein
DESCRIPTION:Am 13. November findet unser stimmungsvolles Konzert „Kirchenmusik und Kerzenschein“ um 19.00 Uhr in der St. Ulrich-Kirche in Mörsch statt. Bitte beachten Sie\, dass wir das Konzert unter Beachtung der 2G-Regeln veranstalten. Zusätzlich gelten die am Veranstaltungstag geltenden Corona-Vorschriften des Bundes sowie des Landes Baden-Württemberg.
URL:https://dhv-mittelbaden.de/event/hs-moersch-kirchenmusik-und-kerzenschein-2/
LOCATION:Rheinstetten / St. Ulrich Kirche Mörsch\, Deutschland
CATEGORIES:Herbst,Konzerte,Veranstaltungen
ORGANIZER;CN="HS M%C3%B6rsch":MAILTO:vorsitz@hsm1952.de
END:VEVENT
BEGIN:VEVENT
DTSTART;TZID=Europe/Berlin:20211114T180000
DTEND;TZID=Europe/Berlin:20211114T200000
DTSTAMP:20260424T125922
CREATED:20240614T172149Z
LAST-MODIFIED:20240614T172326Z
UID:659-1636912800-1636920000@dhv-mittelbaden.de
SUMMARY:HS Mörsch – Kirchenmusik und Kerzenschein
DESCRIPTION:Am 14. November findet unser stimmungsvolles Konzert „Kirchenmusik und Kerzenschein“ um 18.00 Uhr in der St. Ulrich-Kirche in Mörsch statt. Bitte beachten Sie\, dass wir das Konzert unter Beachtung der 2G-Regeln veranstalten. Zusätzlich gelten die am Veranstaltungstag geltenden Corona-Vorschriften des Bundes sowie des Landes Baden-Württemberg.
URL:https://dhv-mittelbaden.de/event/hs-moersch-kirchenmusik-und-kerzenschein-3/
LOCATION:Rheinstetten / St. Ulrich Kirche Mörsch\, Deutschland
CATEGORIES:Herbst,Konzerte,Veranstaltungen
ORGANIZER;CN="HS M%C3%B6rsch":MAILTO:vorsitz@hsm1952.de
END:VEVENT
END:VCALENDAR