BEGIN:VCALENDAR
VERSION:2.0
PRODID:-//Deutscher Harmonika Verband e.V. Bezirk Mittelbaden - ECPv6.15.17//NONSGML v1.0//EN
CALSCALE:GREGORIAN
METHOD:PUBLISH
X-WR-CALNAME:Deutscher Harmonika Verband e.V. Bezirk Mittelbaden
X-ORIGINAL-URL:https://dhv-mittelbaden.de
X-WR-CALDESC:Veranstaltungen für Deutscher Harmonika Verband e.V. Bezirk Mittelbaden
REFRESH-INTERVAL;VALUE=DURATION:PT1H
X-Robots-Tag:noindex
X-PUBLISHED-TTL:PT1H
BEGIN:VTIMEZONE
TZID:Europe/Berlin
BEGIN:DAYLIGHT
TZOFFSETFROM:+0100
TZOFFSETTO:+0200
TZNAME:CEST
DTSTART:20210328T010000
END:DAYLIGHT
BEGIN:STANDARD
TZOFFSETFROM:+0200
TZOFFSETTO:+0100
TZNAME:CET
DTSTART:20211031T010000
END:STANDARD
BEGIN:DAYLIGHT
TZOFFSETFROM:+0100
TZOFFSETTO:+0200
TZNAME:CEST
DTSTART:20220327T010000
END:DAYLIGHT
BEGIN:STANDARD
TZOFFSETFROM:+0200
TZOFFSETTO:+0100
TZNAME:CET
DTSTART:20221030T010000
END:STANDARD
BEGIN:DAYLIGHT
TZOFFSETFROM:+0100
TZOFFSETTO:+0200
TZNAME:CEST
DTSTART:20230326T010000
END:DAYLIGHT
BEGIN:STANDARD
TZOFFSETFROM:+0200
TZOFFSETTO:+0100
TZNAME:CET
DTSTART:20231029T010000
END:STANDARD
END:VTIMEZONE
BEGIN:VEVENT
DTSTART;VALUE=DATE:20220514
DTEND;VALUE=DATE:20220515
DTSTAMP:20260420T115949
CREATED:20240614T172953Z
LAST-MODIFIED:20240614T172953Z
UID:671-1652486400-1652572799@dhv-mittelbaden.de
SUMMARY:HHV Muggensturm - Kelterfest
DESCRIPTION:
URL:https://dhv-mittelbaden.de/event/hhv-muggensturm-kelterfest-3/
LOCATION:Muggensturm / Alte Kelter\, Deutschland
CATEGORIES:Feste,Frühjahr,Veranstaltungen
END:VEVENT
BEGIN:VEVENT
DTSTART;VALUE=DATE:20220521
DTEND;VALUE=DATE:20220523
DTSTAMP:20260420T115949
CREATED:20240614T173055Z
LAST-MODIFIED:20240614T173055Z
UID:673-1653091200-1653263999@dhv-mittelbaden.de
SUMMARY:HS Kuppenheim - Bockbierfest
DESCRIPTION:
URL:https://dhv-mittelbaden.de/event/hs-kuppenheim-bockbierfest-2/
LOCATION:Kuppenheim / Veranstaltungshalle\, Badstr. 2\, Kuppenheim\, Baden-Württemberg\, 76456\, Deutschland
CATEGORIES:Feste,Frühjahr,Veranstaltungen
END:VEVENT
BEGIN:VEVENT
DTSTART;VALUE=DATE:20220522
DTEND;VALUE=DATE:20220523
DTSTAMP:20260420T115949
CREATED:20240614T173130Z
LAST-MODIFIED:20240614T173130Z
UID:675-1653177600-1653263999@dhv-mittelbaden.de
SUMMARY:HC Viktoria Au am Rhein - Frühlingskonzert
DESCRIPTION:
URL:https://dhv-mittelbaden.de/event/hc-viktoria-au-am-rhein-fruehlingskonzert/
CATEGORIES:Frühjahr,Konzerte,Veranstaltungen
END:VEVENT
BEGIN:VEVENT
DTSTART;VALUE=DATE:20220529
DTEND;VALUE=DATE:20220530
DTSTAMP:20260420T115949
CREATED:20240614T173211Z
LAST-MODIFIED:20240614T173211Z
UID:677-1653782400-1653868799@dhv-mittelbaden.de
SUMMARY:HO Michelbach - Platzkonzert
DESCRIPTION:
URL:https://dhv-mittelbaden.de/event/ho-michelbach-platzkonzert/
CATEGORIES:Frühjahr,Konzerte,Veranstaltungen
END:VEVENT
END:VCALENDAR