BEGIN:VCALENDAR
VERSION:2.0
PRODID:-//Deutscher Harmonika Verband e.V. Bezirk Mittelbaden - ECPv6.15.17//NONSGML v1.0//EN
CALSCALE:GREGORIAN
METHOD:PUBLISH
X-ORIGINAL-URL:https://dhv-mittelbaden.de
X-WR-CALDESC:Veranstaltungen für Deutscher Harmonika Verband e.V. Bezirk Mittelbaden
REFRESH-INTERVAL;VALUE=DURATION:PT1H
X-Robots-Tag:noindex
X-PUBLISHED-TTL:PT1H
BEGIN:VTIMEZONE
TZID:Europe/Berlin
BEGIN:DAYLIGHT
TZOFFSETFROM:+0100
TZOFFSETTO:+0200
TZNAME:CEST
DTSTART:20210328T010000
END:DAYLIGHT
BEGIN:STANDARD
TZOFFSETFROM:+0200
TZOFFSETTO:+0100
TZNAME:CET
DTSTART:20211031T010000
END:STANDARD
BEGIN:DAYLIGHT
TZOFFSETFROM:+0100
TZOFFSETTO:+0200
TZNAME:CEST
DTSTART:20220327T010000
END:DAYLIGHT
BEGIN:STANDARD
TZOFFSETFROM:+0200
TZOFFSETTO:+0100
TZNAME:CET
DTSTART:20221030T010000
END:STANDARD
BEGIN:DAYLIGHT
TZOFFSETFROM:+0100
TZOFFSETTO:+0200
TZNAME:CEST
DTSTART:20230326T010000
END:DAYLIGHT
BEGIN:STANDARD
TZOFFSETFROM:+0200
TZOFFSETTO:+0100
TZNAME:CET
DTSTART:20231029T010000
END:STANDARD
END:VTIMEZONE
BEGIN:VEVENT
DTSTART;VALUE=DATE:20220702
DTEND;VALUE=DATE:20220703
DTSTAMP:20260420T083300
CREATED:20240614T173652Z
LAST-MODIFIED:20240614T173652Z
UID:679-1656720000-1656806399@dhv-mittelbaden.de
SUMMARY:HHV Muggensturm - Benefizkonzert
DESCRIPTION:
URL:https://dhv-mittelbaden.de/event/hhv-muggensturm-benefizkonzert/
LOCATION:Muggensturm / Katholische Kirche\, Deutschland
CATEGORIES:Konzerte,Sommer,Veranstaltungen
END:VEVENT
BEGIN:VEVENT
DTSTART;VALUE=DATE:20220724
DTEND;VALUE=DATE:20220725
DTSTAMP:20260420T083300
CREATED:20240614T173732Z
LAST-MODIFIED:20240614T173732Z
UID:681-1658620800-1658707199@dhv-mittelbaden.de
SUMMARY:HC Viktoria Au am Rhein - Hoggede
DESCRIPTION:
URL:https://dhv-mittelbaden.de/event/hc-viktoria-au-am-rhein-hoggede/
CATEGORIES:Feste,Sommer,Veranstaltungen
END:VEVENT
END:VCALENDAR