BEGIN:VCALENDAR
VERSION:2.0
PRODID:-//Deutscher Harmonika Verband e.V. Bezirk Mittelbaden - ECPv6.15.17//NONSGML v1.0//EN
CALSCALE:GREGORIAN
METHOD:PUBLISH
X-WR-CALNAME:Deutscher Harmonika Verband e.V. Bezirk Mittelbaden
X-ORIGINAL-URL:https://dhv-mittelbaden.de
X-WR-CALDESC:Veranstaltungen für Deutscher Harmonika Verband e.V. Bezirk Mittelbaden
REFRESH-INTERVAL;VALUE=DURATION:PT1H
X-Robots-Tag:noindex
X-PUBLISHED-TTL:PT1H
BEGIN:VTIMEZONE
TZID:Europe/Berlin
BEGIN:DAYLIGHT
TZOFFSETFROM:+0100
TZOFFSETTO:+0200
TZNAME:CEST
DTSTART:20210328T010000
END:DAYLIGHT
BEGIN:STANDARD
TZOFFSETFROM:+0200
TZOFFSETTO:+0100
TZNAME:CET
DTSTART:20211031T010000
END:STANDARD
BEGIN:DAYLIGHT
TZOFFSETFROM:+0100
TZOFFSETTO:+0200
TZNAME:CEST
DTSTART:20220327T010000
END:DAYLIGHT
BEGIN:STANDARD
TZOFFSETFROM:+0200
TZOFFSETTO:+0100
TZNAME:CET
DTSTART:20221030T010000
END:STANDARD
BEGIN:DAYLIGHT
TZOFFSETFROM:+0100
TZOFFSETTO:+0200
TZNAME:CEST
DTSTART:20230326T010000
END:DAYLIGHT
BEGIN:STANDARD
TZOFFSETFROM:+0200
TZOFFSETTO:+0100
TZNAME:CET
DTSTART:20231029T010000
END:STANDARD
END:VTIMEZONE
BEGIN:VEVENT
DTSTART;TZID=Europe/Berlin:20221203T080000
DTEND;TZID=Europe/Berlin:20221203T170000
DTSTAMP:20260419T203722
CREATED:20240614T174551Z
LAST-MODIFIED:20240614T174551Z
UID:701-1670054400-1670086800@dhv-mittelbaden.de
SUMMARY:HS Rotenfels - Konzert
DESCRIPTION:
URL:https://dhv-mittelbaden.de/event/hs-rotenfels-konzert/
LOCATION:Rotenfels / Festhalle\, Am Gommersbach 7\, Gaggenau\, Baden-Württemberg\, 76571\, Deutschland
CATEGORIES:Konzerte,Veranstaltungen,Winter
END:VEVENT
BEGIN:VEVENT
DTSTART;VALUE=DATE:20221204
DTEND;VALUE=DATE:20221205
DTSTAMP:20260419T203722
CREATED:20240614T174631Z
LAST-MODIFIED:20240614T174631Z
UID:703-1670112000-1670198399@dhv-mittelbaden.de
SUMMARY:HC Viktoria Au am Rhein - Feierlicher Advent
DESCRIPTION:
URL:https://dhv-mittelbaden.de/event/hc-viktoria-au-am-rhein-feierlicher-advent/
CATEGORIES:Feiern,Veranstaltungen,Winter
END:VEVENT
BEGIN:VEVENT
DTSTART;TZID=Europe/Berlin:20221204T153000
DTEND;TZID=Europe/Berlin:20221204T170000
DTSTAMP:20260419T203722
CREATED:20240614T174712Z
LAST-MODIFIED:20240614T174712Z
UID:705-1670167800-1670173200@dhv-mittelbaden.de
SUMMARY:AO Malsch - Adventsfeier
DESCRIPTION:
URL:https://dhv-mittelbaden.de/event/ao-malsch-adventsfeier/
LOCATION:Malsch / Theresienhaus\, Muggensturmer Str. 6\, Malsch\, Baden-Württemberg\, 76316\, Deutschland
CATEGORIES:Feiern,Veranstaltungen,Winter
END:VEVENT
BEGIN:VEVENT
DTSTART;TZID=Europe/Berlin:20221210T200000
DTEND;TZID=Europe/Berlin:20221210T220000
DTSTAMP:20260419T203722
CREATED:20240614T174806Z
LAST-MODIFIED:20240614T174806Z
UID:707-1670702400-1670709600@dhv-mittelbaden.de
SUMMARY:HS Sandweier - Jubiläums-Konzert
DESCRIPTION:
URL:https://dhv-mittelbaden.de/event/hs-sandweier-jubilaeums-konzert/
LOCATION:Sandweier / Rheintalhalle
CATEGORIES:Konzerte,Veranstaltungen,Winter
END:VEVENT
BEGIN:VEVENT
DTSTART;VALUE=DATE:20221217
DTEND;VALUE=DATE:20221218
DTSTAMP:20260419T203722
CREATED:20240614T174856Z
LAST-MODIFIED:20240614T174856Z
UID:709-1671235200-1671321599@dhv-mittelbaden.de
SUMMARY:HHV Muggensturm - Weihnachtsfeier
DESCRIPTION:
URL:https://dhv-mittelbaden.de/event/hhv-muggensturm-weihnachtsfeier-3/
LOCATION:Muggensturm / Wolf-Eberstein-Halle\, Deutschland
CATEGORIES:Feiern,Veranstaltungen,Winter
END:VEVENT
END:VCALENDAR