BEGIN:VCALENDAR
VERSION:2.0
PRODID:-//Deutscher Harmonika Verband e.V. Bezirk Mittelbaden - ECPv6.15.17//NONSGML v1.0//EN
CALSCALE:GREGORIAN
METHOD:PUBLISH
X-WR-CALNAME:Deutscher Harmonika Verband e.V. Bezirk Mittelbaden
X-ORIGINAL-URL:https://dhv-mittelbaden.de
X-WR-CALDESC:Veranstaltungen für Deutscher Harmonika Verband e.V. Bezirk Mittelbaden
REFRESH-INTERVAL;VALUE=DURATION:PT1H
X-Robots-Tag:noindex
X-PUBLISHED-TTL:PT1H
BEGIN:VTIMEZONE
TZID:Europe/Berlin
BEGIN:DAYLIGHT
TZOFFSETFROM:+0100
TZOFFSETTO:+0200
TZNAME:CEST
DTSTART:20250330T010000
END:DAYLIGHT
BEGIN:STANDARD
TZOFFSETFROM:+0200
TZOFFSETTO:+0100
TZNAME:CET
DTSTART:20251026T010000
END:STANDARD
BEGIN:DAYLIGHT
TZOFFSETFROM:+0100
TZOFFSETTO:+0200
TZNAME:CEST
DTSTART:20260329T010000
END:DAYLIGHT
BEGIN:STANDARD
TZOFFSETFROM:+0200
TZOFFSETTO:+0100
TZNAME:CET
DTSTART:20261025T010000
END:STANDARD
BEGIN:DAYLIGHT
TZOFFSETFROM:+0100
TZOFFSETTO:+0200
TZNAME:CEST
DTSTART:20270328T010000
END:DAYLIGHT
BEGIN:STANDARD
TZOFFSETFROM:+0200
TZOFFSETTO:+0100
TZNAME:CET
DTSTART:20271031T010000
END:STANDARD
END:VTIMEZONE
BEGIN:VEVENT
DTSTART;TZID=Europe/Berlin:20260426T170000
DTEND;TZID=Europe/Berlin:20260426T193000
DTSTAMP:20260420T094903
CREATED:20251227T165736Z
LAST-MODIFIED:20251227T165736Z
UID:990-1777222800-1777231800@dhv-mittelbaden.de
SUMMARY:Kirchenkonzert Harmonikaorchester Michelbach e.V. - zu Gast: Gesangverein Sulzbach e.V.
DESCRIPTION:
URL:https://dhv-mittelbaden.de/event/kirchenkonzert-harmonikaorchester-michelbach-e-v-zu-gast-gesangverein-sulzbach-e-v/
LOCATION:Michelbach / St. Michael\, Deutschland
CATEGORIES:Akkordeon,Konzerte
END:VEVENT
END:VCALENDAR