BEGIN:VCALENDAR
VERSION:2.0
PRODID:-//Deutscher Harmonika Verband e.V. Bezirk Mittelbaden - ECPv6.15.17//NONSGML v1.0//EN
CALSCALE:GREGORIAN
METHOD:PUBLISH
X-ORIGINAL-URL:https://dhv-mittelbaden.de
X-WR-CALDESC:Veranstaltungen für Deutscher Harmonika Verband e.V. Bezirk Mittelbaden
REFRESH-INTERVAL;VALUE=DURATION:PT1H
X-Robots-Tag:noindex
X-PUBLISHED-TTL:PT1H
BEGIN:VTIMEZONE
TZID:Europe/Berlin
BEGIN:DAYLIGHT
TZOFFSETFROM:+0100
TZOFFSETTO:+0200
TZNAME:CEST
DTSTART:20250330T010000
END:DAYLIGHT
BEGIN:STANDARD
TZOFFSETFROM:+0200
TZOFFSETTO:+0100
TZNAME:CET
DTSTART:20251026T010000
END:STANDARD
BEGIN:DAYLIGHT
TZOFFSETFROM:+0100
TZOFFSETTO:+0200
TZNAME:CEST
DTSTART:20260329T010000
END:DAYLIGHT
BEGIN:STANDARD
TZOFFSETFROM:+0200
TZOFFSETTO:+0100
TZNAME:CET
DTSTART:20261025T010000
END:STANDARD
BEGIN:DAYLIGHT
TZOFFSETFROM:+0100
TZOFFSETTO:+0200
TZNAME:CEST
DTSTART:20270328T010000
END:DAYLIGHT
BEGIN:STANDARD
TZOFFSETFROM:+0200
TZOFFSETTO:+0100
TZNAME:CET
DTSTART:20271031T010000
END:STANDARD
END:VTIMEZONE
BEGIN:VEVENT
DTSTART;TZID=Europe/Berlin:20260621T103000
DTEND;TZID=Europe/Berlin:20260621T120000
DTSTAMP:20260420T223315
CREATED:20260209T110301Z
LAST-MODIFIED:20260209T110301Z
UID:1024-1782037800-1782043200@dhv-mittelbaden.de
SUMMARY:Ehrungsmatinée des Harmonika-Spielring Mörsch 1952 e.V.
DESCRIPTION:Der HS-Mörsch 1952 e.V. lädt zur Ehrungsmatinée ein. \nSonntag\, 21.06.2026\, 10.30 Uhr\, Aula Schulzentrum Rheinstetten-Mörsch. \n 
URL:https://dhv-mittelbaden.de/event/ehrungsmatinee-des-harmonika-spielring-moersch-1952-e-v/
LOCATION:Rheinstetten / Schulzentrum Mörsch\, Deutschland
CATEGORIES:Akkordeon,Feiern,Konzerte,Sonstiges
END:VEVENT
END:VCALENDAR