BEGIN:VCALENDAR
VERSION:2.0
PRODID:-//Deutscher Harmonika Verband e.V. Bezirk Mittelbaden - ECPv6.15.17//NONSGML v1.0//EN
CALSCALE:GREGORIAN
METHOD:PUBLISH
X-ORIGINAL-URL:https://dhv-mittelbaden.de
X-WR-CALDESC:Veranstaltungen für Deutscher Harmonika Verband e.V. Bezirk Mittelbaden
REFRESH-INTERVAL;VALUE=DURATION:PT1H
X-Robots-Tag:noindex
X-PUBLISHED-TTL:PT1H
BEGIN:VTIMEZONE
TZID:Europe/Berlin
BEGIN:DAYLIGHT
TZOFFSETFROM:+0100
TZOFFSETTO:+0200
TZNAME:CEST
DTSTART:20250330T010000
END:DAYLIGHT
BEGIN:STANDARD
TZOFFSETFROM:+0200
TZOFFSETTO:+0100
TZNAME:CET
DTSTART:20251026T010000
END:STANDARD
BEGIN:DAYLIGHT
TZOFFSETFROM:+0100
TZOFFSETTO:+0200
TZNAME:CEST
DTSTART:20260329T010000
END:DAYLIGHT
BEGIN:STANDARD
TZOFFSETFROM:+0200
TZOFFSETTO:+0100
TZNAME:CET
DTSTART:20261025T010000
END:STANDARD
BEGIN:DAYLIGHT
TZOFFSETFROM:+0100
TZOFFSETTO:+0200
TZNAME:CEST
DTSTART:20270328T010000
END:DAYLIGHT
BEGIN:STANDARD
TZOFFSETFROM:+0200
TZOFFSETTO:+0100
TZNAME:CET
DTSTART:20271031T010000
END:STANDARD
END:VTIMEZONE
BEGIN:VEVENT
DTSTART;TZID=Europe/Berlin:20260327T193000
DTEND;TZID=Europe/Berlin:20260327T210000
DTSTAMP:20260420T190613
CREATED:20260225T171646Z
LAST-MODIFIED:20260225T171646Z
UID:1073-1774639800-1774645200@dhv-mittelbaden.de
SUMMARY:Harmonikaclub Au am Rhein - Generalversammlung
DESCRIPTION:Generalversammlung des HC Au am Rhein mit Ehrungen \nwo?         HC-Vereinsraum\, Pestalozzistraße/Schule\, 76474 Au am Rhein. \nBeginn:  19:30 Uhr
URL:https://dhv-mittelbaden.de/event/harmonikaclub-au-am-rhein-generalversammlung/
LOCATION:Au am Rhein / Vereinsräume\, Deutschland
END:VEVENT
END:VCALENDAR